BEGIN:VCALENDAR
VERSION:2.0
PRODID:-//eventon.com NONSGML v1.0//EN
CALSCALE:GREGORIAN
METHOD:PUBLISH
BEGIN:VEVENT
UID:69e84da1722c5
DTSTAMP:20260422T042505Z
DTSTART:19700101
DTEND:19700102
LOCATION:Parafia Matki Bożej Królowej Pokoju  2111 Uxbridge Drive NW\,  Calgary\,  Alberta T2N 3Z3
SUMMARY:Fundacja Brata Alberta Calgary
DESCRIPTION:ZARZĄD FUNDACJI IM. ŚW. BRATA ALBERTA W CALGARY prosi wszystk
 ich Parafian o poparcie naszej comiesięcznej zbiórki pieniężnej na rzec
 z ośrodków\,  którym pomagamy w Polsce. Członkowie zarządu będą dyż
 urować w sali parafialnej po niedzielnych mszach świętych co druga niedz
 ielę miesiąca\,  w sali parafialnej Kościoła Matki Bożej Królowej Pok
 oju. W grudniu 2023[..]\nhttps://poloniawcalgary.com/events/fundacja-brata-
 alberta-calgary/
URL:https://poloniawcalgary.com/events/fundacja-brata-alberta-calgary/
END:VEVENT
END:VCALENDAR