BEGIN:VCALENDAR
VERSION:2.0
PRODID:-//eventon.com NONSGML v1.0//EN
CALSCALE:GREGORIAN
METHOD:PUBLISH
BEGIN:VEVENT
UID:69e73c3c264d2
DTSTAMP:20260421T085836Z
DTSTART:20230430
DTEND:20230501
LOCATION:Parafia Matki Bożej Królowej Pokoju  2111 Uxbridge Drive NW\,  Calgary\,  Alberta T2N 3Z3
SUMMARY:Kawiarenka z Krakusami
DESCRIPTION:Krakusy Polish Folk Dance Association Drogie gotujące panie i 
 panowie &#8211; zróbcie sobie małą przerwę w niedzielnym gotowaniu &#82
 11; Krakusy zapraszają na przepyszne zestawy obiadowe. Na miejscu i na wyn
 os. $15. Do wyboru roladka ze śliwką lub kotlet schabowy z ziemniaczkami\
 ,  surówką i warzywami. Będą również pączki\,  jagodzianki i sernik.
 [..]\nhttps://poloniawcalgary.com/events/kawiarenka-z-krakusami/
URL:https://poloniawcalgary.com/events/kawiarenka-z-krakusami/
END:VEVENT
END:VCALENDAR